BEGIN:VCALENDAR
VERSION:2.0
PRODID:spatie/icalendar-generator
DESCRIPTION:セントラルサーキットオフィシャルブログのイ
 ベント
X-WR-CALDESC:セントラルサーキットオフィシャルブログの
 イベント
REFRESH-INTERVAL;VALUE=DURATION:PT1440M
X-PUBLISHED-TTL:PT1440M
BEGIN:VTIMEZONE
TZID:Asia/Tokyo
BEGIN:STANDARD
DTSTART:20250804T000000Z
TZOFFSETFROM:+0900
TZOFFSETTO:+0900
END:STANDARD
END:VTIMEZONE
BEGIN:VTIMEZONE
TZID:UTC
BEGIN:STANDARD
DTSTART:20250729T115527Z
TZOFFSETFROM:+0000
TZOFFSETTO:+0000
END:STANDARD
END:VTIMEZONE
BEGIN:VEVENT
UID:3929-3468
DTSTAMP:20260425T115527Z
SUMMARY:シバ走withみや走
LOCATION:
ORGANIZER;CN=セントラルサーキット:MAILTO:centralcircuit.ccot@gmai
 l.com
DTSTART;TZID=Asia/Tokyo;VALUE=DATE:20260501
DTEND;TZID=Asia/Tokyo;VALUE=DATE:20260502
X-ALT-DESC;FMTTYPE=TEXT/HTML:みやモータース　様
CATEGORIES:General
URL;VALUE=URI:https://central-circuit.com/my-calendar/?fbclid=IwAR2TSkYHXDG
 hclxEuN1IGq62__hynF5OOZuP_QQ6QA8Tf3me4XXgjrf_Wjc&#038;mc_id=3929&#038;vcal
 =3929
METHOD:PUBLISH
END:VEVENT
END:VCALENDAR