BEGIN:VCALENDAR
VERSION:2.0
PRODID:spatie/icalendar-generator
DESCRIPTION:セントラルサーキットオフィシャルブログのイ
 ベント
X-WR-CALDESC:セントラルサーキットオフィシャルブログの
 イベント
REFRESH-INTERVAL;VALUE=DURATION:PT1440M
X-PUBLISHED-TTL:PT1440M
BEGIN:VTIMEZONE
TZID:Asia/Tokyo
BEGIN:STANDARD
DTSTART:20220226T000000Z
TZOFFSETFROM:+0900
TZOFFSETTO:+0900
END:STANDARD
END:VTIMEZONE
BEGIN:VTIMEZONE
TZID:UTC
BEGIN:STANDARD
DTSTART:20250725T095351Z
TZOFFSETFROM:+0000
TZOFFSETTO:+0000
END:STANDARD
END:VTIMEZONE
BEGIN:VEVENT
UID:2511-2170
DTSTAMP:20260421T095351Z
SUMMARY:11月23日(水)
LOCATION:
ORGANIZER;CN=セントラルサーキット:MAILTO:centralcircuit.ccot@gmai
 l.com
DTSTART;TZID=Asia/Tokyo;VALUE=DATE:20221123
DTEND;TZID=Asia/Tokyo;VALUE=DATE:20221124
X-ALT-DESC;FMTTYPE=TEXT/HTML:
CATEGORIES:General
URL;VALUE=URI:https://central-circuit.com/my-calendar/?mc_id=2511&#038;vcal
 =2511
METHOD:PUBLISH
END:VEVENT
END:VCALENDAR