BEGIN:VCALENDAR
VERSION:2.0
PRODID:spatie/icalendar-generator
DESCRIPTION:セントラルサーキットオフィシャルブログのイ
 ベント
X-WR-CALDESC:セントラルサーキットオフィシャルブログの
 イベント
REFRESH-INTERVAL;VALUE=DURATION:PT1440M
X-PUBLISHED-TTL:PT1440M
BEGIN:VTIMEZONE
TZID:Asia/Tokyo
BEGIN:STANDARD
DTSTART:20250121T000000Z
TZOFFSETFROM:+0900
TZOFFSETTO:+0900
END:STANDARD
END:VTIMEZONE
BEGIN:VTIMEZONE
TZID:UTC
BEGIN:STANDARD
DTSTART:20250725T082756Z
TZOFFSETFROM:+0000
TZOFFSETTO:+0000
END:STANDARD
END:VTIMEZONE
BEGIN:VEVENT
UID:3661-3233
DTSTAMP:20260421T082756Z
SUMMARY:軽自動車の集い走行会
LOCATION:
ORGANIZER;CN=セントラルサーキット:MAILTO:centralcircuit.ccot@gmai
 l.com
DTSTART;TZID=Asia/Tokyo;VALUE=DATE:20251018
DTEND;TZID=Asia/Tokyo;VALUE=DATE:20251019
X-ALT-DESC;FMTTYPE=TEXT/HTML:軽自動車の集い実行委員会　様 /
 　連絡先：大道修　様　09013347782
CATEGORIES:イベント
URL;VALUE=URI:https://central-circuit.com/my-calendar/?mc_id=3661&#038;vcal
 =3661
METHOD:PUBLISH
END:VEVENT
END:VCALENDAR